BEGIN:VCALENDAR
VERSION:2.0
PRODID:-//GIHS - ECPv6.10.3//NONSGML v1.0//EN
CALSCALE:GREGORIAN
METHOD:PUBLISH
X-ORIGINAL-URL:https://gihsdubai.com
X-WR-CALDESC:Events for GIHS
REFRESH-INTERVAL;VALUE=DURATION:PT1H
X-Robots-Tag:noindex
X-PUBLISHED-TTL:PT1H
BEGIN:VTIMEZONE
TZID:Asia/Dubai
BEGIN:STANDARD
TZOFFSETFROM:+0400
TZOFFSETTO:+0400
TZNAME:+04
DTSTART:20240101T000000
END:STANDARD
END:VTIMEZONE
BEGIN:VTIMEZONE
TZID:UTC
BEGIN:STANDARD
TZOFFSETFROM:+0000
TZOFFSETTO:+0000
TZNAME:UTC
DTSTART:20240101T000000
END:STANDARD
END:VTIMEZONE
BEGIN:VEVENT
DTSTART;VALUE=DATE:20241108
DTEND;VALUE=DATE:20241109
DTSTAMP:20260424T232941
CREATED:20241106T073609Z
LAST-MODIFIED:20241106T074206Z
UID:10320-1731024000-1731110399@gihsdubai.com
SUMMARY:Fitness Challenge - Dress up day
DESCRIPTION:  \nTraining Incharge\nMs. Athira\nMr. Padmaraj\n  \nGrades\nAll Grades
URL:https://gihsdubai.com/event/fitness-challenge-dress-up-day/
LOCATION:Gulf Indian High School\, 7 28a St - near New RTA office - Al Garhoud - Dubai - United Arab Emirates\, Dubai\, Dubai\, United Arab Emirates
CATEGORIES:Health and safety,School Activity
ORGANIZER;CN="Gulf Indian High School":MAILTO:gihs@gihsdubai.com
END:VEVENT
BEGIN:VEVENT
DTSTART;TZID=UTC:20241014T080000
DTEND;TZID=UTC:20241017T170000
DTSTAMP:20260424T232941
CREATED:20240911T085915Z
LAST-MODIFIED:20240913T003457Z
UID:8663-1728892800-1729184400@gihsdubai.com
SUMMARY:ANTI BULLYING WEEK
DESCRIPTION:
URL:https://gihsdubai.com/event/anti-bullying-week/
LOCATION:Gulf Indian High School\, 7 28a St - near New RTA office - Al Garhoud - Dubai - United Arab Emirates\, Dubai\, Dubai\, United Arab Emirates
CATEGORIES:Health and safety
ORGANIZER;CN="Gulf Indian High School":MAILTO:gihs@gihsdubai.com
END:VEVENT
BEGIN:VEVENT
DTSTART;VALUE=DATE:20241010
DTEND;VALUE=DATE:20241011
DTSTAMP:20260424T232941
CREATED:20241011T070705Z
LAST-MODIFIED:20241106T062730Z
UID:10236-1728518400-1728604799@gihsdubai.com
SUMMARY:PINK DAY BREAST CANCER AWARENESS PROGRAM
DESCRIPTION:
URL:https://gihsdubai.com/event/pink-day-breast-cancer-awareness-program/
LOCATION:Gulf Indian High School\, 7 28a St - near New RTA office - Al Garhoud - Dubai - United Arab Emirates\, Dubai\, Dubai\, United Arab Emirates
CATEGORIES:Health and safety
ORGANIZER;CN="Gulf Indian High School":MAILTO:gihs@gihsdubai.com
END:VEVENT
BEGIN:VEVENT
DTSTART;TZID=UTC:20240923T080000
DTEND;TZID=UTC:20240926T170000
DTSTAMP:20260424T232941
CREATED:20240911T085659Z
LAST-MODIFIED:20240913T003526Z
UID:8659-1727078400-1727370000@gihsdubai.com
SUMMARY:SAFETY WEEK
DESCRIPTION:
URL:https://gihsdubai.com/event/safety-week/
LOCATION:Gulf Indian High School\, 7 28a St - near New RTA office - Al Garhoud - Dubai - United Arab Emirates\, Dubai\, Dubai\, United Arab Emirates
CATEGORIES:Computer Science,Health and safety
ORGANIZER;CN="Gulf Indian High School":MAILTO:gihs@gihsdubai.com
END:VEVENT
END:VCALENDAR