BEGIN:VCALENDAR
VERSION:2.0
PRODID:-//GIHS - ECPv6.10.3//NONSGML v1.0//EN
CALSCALE:GREGORIAN
METHOD:PUBLISH
X-WR-CALNAME:GIHS
X-ORIGINAL-URL:https://gihsdubai.com
X-WR-CALDESC:Events for GIHS
REFRESH-INTERVAL;VALUE=DURATION:PT1H
X-Robots-Tag:noindex
X-PUBLISHED-TTL:PT1H
BEGIN:VTIMEZONE
TZID:UTC
BEGIN:STANDARD
TZOFFSETFROM:+0000
TZOFFSETTO:+0000
TZNAME:UTC
DTSTART:20240101T000000
END:STANDARD
END:VTIMEZONE
BEGIN:VEVENT
DTSTART;TZID=UTC:20240527T080000
DTEND;TZID=UTC:20240530T170000
DTSTAMP:20260421T140902
CREATED:20240911T053557Z
LAST-MODIFIED:20240913T003620Z
UID:8591-1716796800-1717088400@gihsdubai.com
SUMMARY:HEALTH AND WELLNESS WEEK
DESCRIPTION:
URL:https://gihsdubai.com/event/health-and-wellness-week/
LOCATION:Gulf Indian High School\, 7 28a St - near New RTA office - Al Garhoud - Dubai - United Arab Emirates\, Dubai\, Dubai\, United Arab Emirates
CATEGORIES:Home science,PHYSICAL EDUCATION
ORGANIZER;CN="Gulf Indian High School":MAILTO:gihs@gihsdubai.com
END:VEVENT
END:VCALENDAR