BEGIN:VCALENDAR
VERSION:2.0
PRODID:-//GIHS - ECPv6.10.3//NONSGML v1.0//EN
CALSCALE:GREGORIAN
METHOD:PUBLISH
X-ORIGINAL-URL:https://gihsdubai.com
X-WR-CALDESC:Events for GIHS
REFRESH-INTERVAL;VALUE=DURATION:PT1H
X-Robots-Tag:noindex
X-PUBLISHED-TTL:PT1H
BEGIN:VTIMEZONE
TZID:Asia/Dubai
BEGIN:STANDARD
TZOFFSETFROM:+0400
TZOFFSETTO:+0400
TZNAME:+04
DTSTART:20240101T000000
END:STANDARD
END:VTIMEZONE
BEGIN:VEVENT
DTSTART;TZID=Asia/Dubai:20241128T100000
DTEND;TZID=Asia/Dubai:20241128T170000
DTSTAMP:20260419T185827
CREATED:20241106T100753Z
LAST-MODIFIED:20241106T114324Z
UID:10366-1732788000-1732813200@gihsdubai.com
SUMMARY:UAE national day celebration
DESCRIPTION:  \nTraining Incharge\nClub incharges\nGrades\nKG – 1 & KG – 2\nGrade – 1  to Grade – 12
URL:https://gihsdubai.com/event/uae-national-day-celebration/
LOCATION:Gulf Indian High School\, 7 28a St - near New RTA office - Al Garhoud - Dubai - United Arab Emirates\, Dubai\, Dubai\, United Arab Emirates
CATEGORIES:SOCIAL STUDIES,Traditional Day
ORGANIZER;CN="Gulf Indian High School":MAILTO:gihs@gihsdubai.com
END:VEVENT
END:VCALENDAR