BEGIN:VCALENDAR
VERSION:2.0
PRODID:-//GIHS - ECPv6.10.3//NONSGML v1.0//EN
CALSCALE:GREGORIAN
METHOD:PUBLISH
X-ORIGINAL-URL:https://gihsdubai.com
X-WR-CALDESC:Events for GIHS
REFRESH-INTERVAL;VALUE=DURATION:PT1H
X-Robots-Tag:noindex
X-PUBLISHED-TTL:PT1H
BEGIN:VTIMEZONE
TZID:Asia/Dubai
BEGIN:STANDARD
TZOFFSETFROM:+0400
TZOFFSETTO:+0400
TZNAME:+04
DTSTART:20240101T000000
END:STANDARD
END:VTIMEZONE
BEGIN:VEVENT
DTSTART;VALUE=DATE:20241211
DTEND;VALUE=DATE:20241212
DTSTAMP:20260421T124049
CREATED:20241211T063457Z
LAST-MODIFIED:20241211T065932Z
UID:10685-1733875200-1733961599@gihsdubai.com
SUMMARY:GIHS EXPO 2024
DESCRIPTION:🌎 GIHS EXPO 2024 🌍\nCelebrate Diversity\, Embrace Difference!\nJoin us for an exciting event where our students will showcase the rich variety of cultures that make our world unique. The GIHS EXPO 2024 is all about celebrating cultural diversity\, fostering mutual respect\, and encouraging everyone to embrace the beauty of our shared heritage.\nLet’s come together to honor our differences and unite through the power of culture! 🎉✨ \n— at Gulf Indian High School – GIHS\, Dubai.
URL:https://gihsdubai.com/event/gihs-expo-2024/
LOCATION:Main Stage – GIHS\, 7 28a St - near New RTA office - Al Garhoud - Dubai - United Arab Emirates\, Dubai\, Dubai\, United Arab Emirates
CATEGORIES:Islamic studies,SOCIAL STUDIES,Traditional Day
ORGANIZER;CN="Gulf Indian High School":MAILTO:gihs@gihsdubai.com
END:VEVENT
END:VCALENDAR